BEGIN:VCALENDAR
CALSCALE:GREGORIAN
X-WR-TIMEZONE;VALUE=TEXT:GMT
PRODID:PEAK Corporation - piCal -
X-WR-CALNAME;VALUE=TEXT:幼児グループ　合同七夕会
VERSION:2.0
METHOD:PUBLISH
BEGIN:VTIMEZONE
TZID:GMT
BEGIN:STANDARD
DTSTART:19390101T000000
TZOFFSETFROM:+0000
TZOFFSETTO:+0000
TZNAME:GMT
END:STANDARD
END:VTIMEZONE
BEGIN:VEVENT
DTSTART:20140703T013000Z
DTEND:20140703T023000Z
LOCATION:ひばり児童館　集会室
TRANSP:OPAQUE
SEQUENCE:0
UID:pical060-8a1b4d774adf594be9b9b2e0fe6ab8fe
DTSTAMP:20140628T100638Z
CATEGORIES:ひばり児童館
DESCRIPTION:幼児グループのぱんだ組とくま組が一緒に七夕を楽しみます。乙姫や彦星も来るかな？？\n\n登録制の乳幼児活動になります。\n今年度の受付は終了しました。
SUMMARY:幼児グループ　合同七夕会
PRIORITY:0
CLASS:PUBLIC
END:VEVENT
END:VCALENDAR
