BEGIN:VCALENDAR
CALSCALE:GREGORIAN
X-WR-TIMEZONE;VALUE=TEXT:GMT
PRODID:PEAK Corporation - piCal -
X-WR-CALNAME;VALUE=TEXT:お誕生日会（生活クラブ）
VERSION:2.0
METHOD:PUBLISH
BEGIN:VTIMEZONE
TZID:GMT
BEGIN:STANDARD
DTSTART:19390101T000000
TZOFFSETFROM:+0000
TZOFFSETTO:+0000
TZNAME:GMT
END:STANDARD
END:VTIMEZONE
BEGIN:VEVENT
DTSTART:20140620T063000Z
DTEND:20140620T073000Z
LOCATION:ひばり児童館　集会室
TRANSP:OPAQUE
SEQUENCE:0
UID:pical060-ae007b07d6c3a0b9d4b0d9cb8f490d74
DTSTAMP:20140619T112725Z
CATEGORIES:ひばり児童館
DESCRIPTION:対象：生活クラブ児童\n\n６月生まれのお誕生日会をします。\n今回のゲームは何かな？？
SUMMARY:お誕生日会（生活クラブ）
PRIORITY:0
CLASS:PUBLIC
END:VEVENT
END:VCALENDAR
